BEGIN:VCALENDAR
VERSION:2.0
PRODID:-//Juanita School - Kenya - ECPv6.15.20//NONSGML v1.0//EN
CALSCALE:GREGORIAN
METHOD:PUBLISH
X-WR-CALNAME:Juanita School - Kenya
X-ORIGINAL-URL:https://www.juanitaschool.org
X-WR-CALDESC:Events for Juanita School - Kenya
REFRESH-INTERVAL;VALUE=DURATION:PT1H
X-Robots-Tag:noindex
X-PUBLISHED-TTL:PT1H
BEGIN:VTIMEZONE
TZID:UTC
BEGIN:STANDARD
TZOFFSETFROM:+0000
TZOFFSETTO:+0000
TZNAME:UTC
DTSTART:20190101T000000
END:STANDARD
END:VTIMEZONE
BEGIN:VTIMEZONE
TZID:Africa/Nairobi
BEGIN:STANDARD
TZOFFSETFROM:+0300
TZOFFSETTO:+0300
TZNAME:EAT
DTSTART:20190101T000000
END:STANDARD
END:VTIMEZONE
BEGIN:VEVENT
DTSTART;VALUE=DATE:20220226
DTEND;VALUE=DATE:20220227
DTSTAMP:20260423T212316
CREATED:20220215T190929Z
LAST-MODIFIED:20220311T192440Z
UID:1053-1645833600-1645919999@www.juanitaschool.org
SUMMARY:2021 Term 3 Closing Day
DESCRIPTION:Students to go home for holiday on Saturday 26th February\, 2022 to mark the end of Term 3 of the 2021 School Calendar Year. \nStudents will be moving up to the next grade level when they report back after the holidays.
URL:https://www.juanitaschool.org/event/2021-term-3-closing-day/
CATEGORIES:School Dates
END:VEVENT
BEGIN:VEVENT
DTSTART;VALUE=DATE:20220219
DTEND;VALUE=DATE:20220220
DTSTAMP:20260423T212316
CREATED:20220203T191425Z
LAST-MODIFIED:20220323T043622Z
UID:1055-1645228800-1645315199@www.juanitaschool.org
SUMMARY:2022 Juanita School Founder's Day
DESCRIPTION:Juanita School Annual Founder’s Day returns for the 3rd year. \nParents are welcome to visit their students. \nWe will have guests from the United States lead by Pastor Allan David and his team.
URL:https://www.juanitaschool.org/event/2022-juanita-school-founders-day/
CATEGORIES:School Events
END:VEVENT
BEGIN:VEVENT
DTSTART;VALUE=DATE:20220104
DTEND;VALUE=DATE:20220105
DTSTAMP:20260423T212316
CREATED:20211227T192104Z
LAST-MODIFIED:20220311T192601Z
UID:1057-1641254400-1641340799@www.juanitaschool.org
SUMMARY:2021 Term 3 Opening Day
DESCRIPTION:Students and teachers return to school on Tuesday January 4th\, 2022 to mark the start of Term 3 of the 2021 School Calendar Year. \nStudents are required to report to school before 4:00PM.
URL:https://www.juanitaschool.org/event/2021-term-3-opening-day/
END:VEVENT
BEGIN:VEVENT
DTSTART;VALUE=DATE:20211001
DTEND;VALUE=DATE:20211002
DTSTAMP:20260423T212316
CREATED:20210311T184047Z
LAST-MODIFIED:20210311T184047Z
UID:706-1633046400-1633132799@www.juanitaschool.org
SUMMARY:Term 1 Closing Day
DESCRIPTION:Students to go home for holiday on 1st October\, 2021 to mark the end of Term 1 of 2021 School Calendar Year.
URL:https://www.juanitaschool.org/event/term-1-closing-day/
END:VEVENT
BEGIN:VEVENT
DTSTART;VALUE=DATE:20210726
DTEND;VALUE=DATE:20210727
DTSTAMP:20260423T212316
CREATED:20210311T183904Z
LAST-MODIFIED:20210311T183904Z
UID:704-1627257600-1627343999@www.juanitaschool.org
SUMMARY:2021 Term 1 Opening Day
DESCRIPTION:Students and teachers return to school on 26th July\, 2021 to mark the start of the first term on 2021 School Calendar Year.
URL:https://www.juanitaschool.org/event/2021-term-1-opening-day/
CATEGORIES:School Events
END:VEVENT
BEGIN:VEVENT
DTSTART;VALUE=DATE:20210716
DTEND;VALUE=DATE:20210717
DTSTAMP:20260423T212316
CREATED:20210311T183733Z
LAST-MODIFIED:20210311T183733Z
UID:702-1626393600-1626479999@www.juanitaschool.org
SUMMARY:Term 3 Closing Day
DESCRIPTION:Students to go home for holiday on 16th July\, 2021 to mark the end of Term 3.
URL:https://www.juanitaschool.org/event/term-3-closing-day/
CATEGORIES:School Events
END:VEVENT
BEGIN:VEVENT
DTSTART;VALUE=DATE:20210608
DTEND;VALUE=DATE:20210609
DTSTAMP:20260423T212316
CREATED:20210311T183533Z
LAST-MODIFIED:20210315T163841Z
UID:700-1623110400-1623196799@www.juanitaschool.org
SUMMARY:Mid-term Break Ends
DESCRIPTION:Students return to school after mid-term break on 8th June\, 2021 for continuation of Term 3. All students are expected to report before 4:00PM.
URL:https://www.juanitaschool.org/event/mid-term-break-ends/
CATEGORIES:School Events
END:VEVENT
BEGIN:VEVENT
DTSTART;TZID=UTC:20210603T080000
DTEND;TZID=UTC:20210607T170000
DTSTAMP:20260423T212316
CREATED:20210311T183409Z
LAST-MODIFIED:20210311T183409Z
UID:698-1622707200-1623085200@www.juanitaschool.org
SUMMARY:Term 3 Mid-term Break
DESCRIPTION:Students go home for mid-term break on 3rd June\, 2021.
URL:https://www.juanitaschool.org/event/term-3-mid-term-break/
CATEGORIES:School Events
END:VEVENT
BEGIN:VEVENT
DTSTART;VALUE=DATE:20210511
DTEND;VALUE=DATE:20210512
DTSTAMP:20260423T212316
CREATED:20210311T183216Z
LAST-MODIFIED:20210315T163409Z
UID:696-1620691200-1620777599@www.juanitaschool.org
SUMMARY:Term 3 Opening Day
DESCRIPTION:Students and teachers return to school on 10th May\, 2021 to begin the third term. All students are to report before 4:00PM
URL:https://www.juanitaschool.org/event/term-3-opening-day/
CATEGORIES:School Events
END:VEVENT
BEGIN:VEVENT
DTSTART;VALUE=DATE:20210319
DTEND;VALUE=DATE:20210320
DTSTAMP:20260423T212316
CREATED:20210311T182910Z
LAST-MODIFIED:20210311T182910Z
UID:692-1616112000-1616198399@www.juanitaschool.org
SUMMARY:Term 2 Closing Day
DESCRIPTION:Students go home for holiday break to mark the end of Term 2 on March 19th\, 2021.
URL:https://www.juanitaschool.org/event/term-2-closing-day/
CATEGORIES:School Events
END:VEVENT
BEGIN:VEVENT
DTSTART;TZID=UTC:20210220T120000
DTEND;TZID=UTC:20210220T200000
DTSTAMP:20260423T212316
CREATED:20210311T183049Z
LAST-MODIFIED:20210311T183049Z
UID:694-1613822400-1613851200@www.juanitaschool.org
SUMMARY:Juanita School Grand Opening Ceremony
DESCRIPTION:Juanita School Grand Opening Ceremony on February 20th\, 2021. Dedicated by guest of honor\, Mr. George Hutchings.
URL:https://www.juanitaschool.org/event/juanita-school-grand-opening-ceremony/
CATEGORIES:School Events
END:VEVENT
BEGIN:VEVENT
DTSTART;VALUE=DATE:20210105
DTEND;VALUE=DATE:20210106
DTSTAMP:20260423T212316
CREATED:20210311T182751Z
LAST-MODIFIED:20210311T182751Z
UID:690-1609804800-1609891199@www.juanitaschool.org
SUMMARY:Term 2 Opening Day
DESCRIPTION:Students and teachers return back to school on January 5th 2021 since the Covid-19 closure in March 2020.
URL:https://www.juanitaschool.org/event/term-2-opening-day/
CATEGORIES:School Events
END:VEVENT
BEGIN:VEVENT
DTSTART;VALUE=DATE:20200409
DTEND;VALUE=DATE:20200410
DTSTAMP:20260423T212316
CREATED:20200219T124044Z
LAST-MODIFIED:20200219T124044Z
UID:209-1586390400-1586476799@www.juanitaschool.org
SUMMARY:Closing Day - Juanita School
DESCRIPTION:The last day of the first semester at Juanita School. Apr-09-2020. Students go home on this day and return for the second semester on May 4th 2020.
URL:https://www.juanitaschool.org/event/2020-closing-day-term1/
END:VEVENT
BEGIN:VEVENT
DTSTART;VALUE=DATE:20200316
DTEND;VALUE=DATE:20200317
DTSTAMP:20260423T212316
CREATED:20200315T234129Z
LAST-MODIFIED:20200315T234222Z
UID:351-1584316800-1584403199@www.juanitaschool.org
SUMMARY:Coronavirus Update - Students To Go Home
DESCRIPTION:All students will be going home indefinitely on Monday March 16th 2020 due to the latest coronavirus (Covid-19) updates.
URL:https://www.juanitaschool.org/event/coronavirus-update-students-to-go-home/
CATEGORIES:Emergency
END:VEVENT
BEGIN:VEVENT
DTSTART;TZID=UTC:20200225T120000
DTEND;TZID=UTC:20200225T170000
DTSTAMP:20260423T212316
CREATED:20200222T053439Z
LAST-MODIFIED:20200222T053439Z
UID:217-1582632000-1582650000@www.juanitaschool.org
SUMMARY:Goat Eating Celebration - Juanita School
DESCRIPTION:There will be a goat-eating celebration on Tuesday February 25th at Juanita School. The St. Louis team\, being led by George Hutchings will be the guests of honor at the event. There will be celebrations and thanksgiving as we commemorate Juanita School’s grand opening this year. All are welcome.
URL:https://www.juanitaschool.org/event/grand-opening-goat-eating-celebration/
END:VEVENT
BEGIN:VEVENT
DTSTART;VALUE=DATE:20200221
DTEND;VALUE=DATE:20200222
DTSTAMP:20260423T212316
CREATED:20200218T205727Z
LAST-MODIFIED:20200218T205727Z
UID:198-1582243200-1582329599@www.juanitaschool.org
SUMMARY:Students Return From Midterm Break
DESCRIPTION:Students come back to school from the mid-term break on Friday 21 February 2020.
URL:https://www.juanitaschool.org/event/students-return-from-midterm-break/
END:VEVENT
BEGIN:VEVENT
DTSTART;VALUE=DATE:20200217
DTEND;VALUE=DATE:20200221
DTSTAMP:20260423T212316
CREATED:20200218T205523Z
LAST-MODIFIED:20200218T205621Z
UID:196-1581897600-1582243199@www.juanitaschool.org
SUMMARY:No Students - Midterm Break
DESCRIPTION:Juanita School Midterm Break Monday Feb-17-2020 to Friday Feb-21-2020.
URL:https://www.juanitaschool.org/event/no-students-midterm-break/
END:VEVENT
BEGIN:VEVENT
DTSTART;VALUE=DATE:20200214
DTEND;VALUE=DATE:20200215
DTSTAMP:20260423T212316
CREATED:20200218T210259Z
LAST-MODIFIED:20200218T210523Z
UID:204-1581638400-1581724799@www.juanitaschool.org
SUMMARY:Mid-term Examinations Day 3
DESCRIPTION:Final day of Midterm examinations at Juanita School. Feb-14-2020. Term 1.
URL:https://www.juanitaschool.org/event/2020-term1-midterm-examinations-day3/
END:VEVENT
BEGIN:VEVENT
DTSTART;VALUE=DATE:20200213
DTEND;VALUE=DATE:20200214
DTSTAMP:20260423T212316
CREATED:20200218T205901Z
LAST-MODIFIED:20200218T210438Z
UID:200-1581552000-1581638399@www.juanitaschool.org
SUMMARY:Mid-term Examinations Day 2
DESCRIPTION:2nd day of Mid-term Examinations at Juanita School. Feb-13-2020. Term 1.
URL:https://www.juanitaschool.org/event/2020-term1-midterm-examinations-day2/
END:VEVENT
BEGIN:VEVENT
DTSTART;VALUE=DATE:20200212
DTEND;VALUE=DATE:20200213
DTSTAMP:20260423T212316
CREATED:20200218T210123Z
LAST-MODIFIED:20200218T210156Z
UID:202-1581465600-1581551999@www.juanitaschool.org
SUMMARY:Mid-term Examination Day 1
DESCRIPTION:1st day of Midterm Examinations at Juanita School. Feb-11-2020. Term 1.
URL:https://www.juanitaschool.org/event/2020-term1-midterm-examination-day1/
END:VEVENT
BEGIN:VEVENT
DTSTART;VALUE=DATE:20200114
DTEND;VALUE=DATE:20200115
DTSTAMP:20260423T212316
CREATED:20200106T041459Z
LAST-MODIFIED:20200106T041459Z
UID:161-1578960000-1579046399@www.juanitaschool.org
SUMMARY:Juanita School Grand Opening
DESCRIPTION:Juanita School Grand Opening to be held on the 14th of January\, 2020. Form 1 students will begin reporting on this day and various events will be taking place at the school. We hope to see you there.
URL:https://www.juanitaschool.org/event/juanita-school-grand-opening/
LOCATION:Juanita School\, Juanita School\, Thika East Kenya\, Munyu\, Thika\, Central\, 01000\, Kenya
END:VEVENT
END:VCALENDAR