BEGIN:VCALENDAR
VERSION:2.0
PRODID:-//Juanita School - Kenya - ECPv6.15.20//NONSGML v1.0//EN
CALSCALE:GREGORIAN
METHOD:PUBLISH
X-WR-CALNAME:Juanita School - Kenya
X-ORIGINAL-URL:https://www.juanitaschool.org
X-WR-CALDESC:Events for Juanita School - Kenya
REFRESH-INTERVAL;VALUE=DURATION:PT1H
X-Robots-Tag:noindex
X-PUBLISHED-TTL:PT1H
BEGIN:VTIMEZONE
TZID:UTC
BEGIN:STANDARD
TZOFFSETFROM:+0000
TZOFFSETTO:+0000
TZNAME:UTC
DTSTART:20210101T000000
END:STANDARD
END:VTIMEZONE
BEGIN:VTIMEZONE
TZID:Africa/Nairobi
BEGIN:STANDARD
TZOFFSETFROM:+0300
TZOFFSETTO:+0300
TZNAME:EAT
DTSTART:20220101T000000
END:STANDARD
END:VTIMEZONE
BEGIN:VEVENT
DTSTART;VALUE=DATE:20251027
DTEND;VALUE=DATE:20251107
DTSTAMP:20260423T154419
CREATED:20241129T215913Z
LAST-MODIFIED:20241129T215947Z
UID:2247-1761523200-1762473599@www.juanitaschool.org
SUMMARY:KJSEA Examinations 2025
DESCRIPTION:Grade 9 students to start their KJSEA examinations on October 27th to November 6th. We wish our candidates success in their exams. Go Juanita to the World!
URL:https://www.juanitaschool.org/event/kjsea-assessment-2025/
LOCATION:Juanita School\, Juanita School\, Thika East Kenya\, Munyu\, Thika\, Central\, 01000\, Kenya
CATEGORIES:School Dates
END:VEVENT
BEGIN:VEVENT
DTSTART;VALUE=DATE:20251027
DTEND;VALUE=DATE:20251122
DTSTAMP:20260423T154419
CREATED:20241129T215312Z
LAST-MODIFIED:20250730T060040Z
UID:2245-1761523200-1763769599@www.juanitaschool.org
SUMMARY:KCSE Examinations 2025
DESCRIPTION:Form 4 students to start their K.C.S.E. Examinations on October 27th to November 21st. We wish our candidates success in their exams. \nGo Juanita to the World!
URL:https://www.juanitaschool.org/event/kcse-examinations-2025/
LOCATION:Juanita School\, Juanita School\, Thika East Kenya\, Munyu\, Thika\, Central\, 01000\, Kenya
CATEGORIES:School Dates
END:VEVENT
BEGIN:VEVENT
DTSTART;VALUE=DATE:20251021
DTEND;VALUE=DATE:20251022
DTSTAMP:20260423T154419
CREATED:20250730T055659Z
LAST-MODIFIED:20250730T055659Z
UID:2504-1761004800-1761091199@www.juanitaschool.org
SUMMARY:Closing Day Term 3 2025
DESCRIPTION:JSS and Form 2-3 Students to go home for the long holiday to mark the end of Term 3 2025 on October 21st. \nForm 4 students remain behind for the upcoming K.C.S.E. Exams.
URL:https://www.juanitaschool.org/event/closing-day-term-3-2025/
LOCATION:Juanita School\, Juanita School\, Thika East Kenya\, Munyu\, Thika\, Central\, 01000\, Kenya
CATEGORIES:School Dates
END:VEVENT
BEGIN:VEVENT
DTSTART;VALUE=DATE:20250827
DTEND;VALUE=DATE:20250828
DTSTAMP:20260423T154419
CREATED:20250730T055507Z
LAST-MODIFIED:20250730T055507Z
UID:2502-1756252800-1756339199@www.juanitaschool.org
SUMMARY:Opening Day Term 3 2025
DESCRIPTION:All students to report back to school on August 27th 2025 to mark the start of Term 3 2025. \nStudents are expected to report back before 2:00PM.
URL:https://www.juanitaschool.org/event/opening-day-term-3-2025/
LOCATION:Juanita School\, Juanita School\, Thika East Kenya\, Munyu\, Thika\, Central\, 01000\, Kenya
CATEGORIES:School Dates
END:VEVENT
BEGIN:VEVENT
DTSTART;VALUE=DATE:20250730
DTEND;VALUE=DATE:20250731
DTSTAMP:20260423T154419
CREATED:20250725T055256Z
LAST-MODIFIED:20250730T055402Z
UID:2500-1753833600-1753919999@www.juanitaschool.org
SUMMARY:Closing Date Term 2 2025
DESCRIPTION:Students to go home for the August holiday to mark the end of Term 2 2025 on July 30.
URL:https://www.juanitaschool.org/event/closing-date-term-2-2025/
LOCATION:Juanita School\, Juanita School\, Thika East Kenya\, Munyu\, Thika\, Central\, 01000\, Kenya
END:VEVENT
BEGIN:VEVENT
DTSTART;VALUE=DATE:20250430
DTEND;VALUE=DATE:20250501
DTSTAMP:20260423T154419
CREATED:20250425T210941Z
LAST-MODIFIED:20250425T210941Z
UID:2431-1745971200-1746057599@www.juanitaschool.org
SUMMARY:Opening Day Term 2 2025
DESCRIPTION:All students to report back to school on April 30th 2025 to mark the start of Term 2 2025. \nStudents are expected to report back before 2:00PM.
URL:https://www.juanitaschool.org/event/opening-day-term-2-2025/
LOCATION:Juanita School\, Juanita School\, Thika East Kenya\, Munyu\, Thika\, Central\, 01000\, Kenya
CATEGORIES:School Dates
END:VEVENT
BEGIN:VEVENT
DTSTART;VALUE=DATE:20250226
DTEND;VALUE=DATE:20250304
DTSTAMP:20260423T154419
CREATED:20241129T214719Z
LAST-MODIFIED:20241129T214859Z
UID:2242-1740528000-1741046399@www.juanitaschool.org
SUMMARY:Mid-Term Break Term 1 2025
DESCRIPTION:Students to go home for mid-term break of Term 1 2025 on February 26\, 2025. \nStudents are to return to school on Tuesday March 4\, 2025 to resume with the rest of the term. \nStudents are expected to report back before 1:00PM.
URL:https://www.juanitaschool.org/event/mid-term-break-term-1-2025/
LOCATION:Central
CATEGORIES:School Dates
END:VEVENT
BEGIN:VEVENT
DTSTART;VALUE=DATE:20250222
DTEND;VALUE=DATE:20250223
DTSTAMP:20260423T154419
CREATED:20241129T213956Z
LAST-MODIFIED:20241129T213956Z
UID:2237-1740182400-1740268799@www.juanitaschool.org
SUMMARY:Founder's Day 2025
DESCRIPTION:The Juanita Schools Annual Founder’s Day will take place on Saturday\, February 22nd\, 2025. This is our annual eventful day of thanksgiving and celebration filled with music and dance from our students with guests expected from the United States. Parents and Alumni are welcome to celebrate with us. We will be celebrating 5 years since Juanita School opened its doors. \nThe day’s proceedings will commence at 11:00AM.
URL:https://www.juanitaschool.org/event/founders-day-2025/
LOCATION:Juanita School\, Juanita School\, Thika East Kenya\, Munyu\, Thika\, Central\, 01000\, Kenya
CATEGORIES:School Events
END:VEVENT
BEGIN:VEVENT
DTSTART;VALUE=DATE:20250108
DTEND;VALUE=DATE:20250109
DTSTAMP:20260423T154419
CREATED:20241129T214157Z
LAST-MODIFIED:20241129T214917Z
UID:2239-1736294400-1736380799@www.juanitaschool.org
SUMMARY:Opening Day Term 1 2025
DESCRIPTION:All students to report back to school on January 8th 2025 to mark the start of Term 1 2025. \nStudents are expected to report back before 1:00PM.
URL:https://www.juanitaschool.org/event/opening-day-term-1-2025/
LOCATION:Juanita School\, Juanita School\, Thika East Kenya\, Munyu\, Thika\, Central\, 01000\, Kenya
CATEGORIES:School Dates
END:VEVENT
BEGIN:VEVENT
DTSTART;VALUE=DATE:20241104
DTEND;VALUE=DATE:20241123
DTSTAMP:20260423T154419
CREATED:20240905T175037Z
LAST-MODIFIED:20240905T175037Z
UID:2159-1730678400-1732319999@www.juanitaschool.org
SUMMARY:KCSE Examinations 2024
DESCRIPTION:Form 4 students to start their K.C.S.E. Examinations on November 4th to November 22nd. We wish our candidates success in their exams. Go Juanita to the World!
URL:https://www.juanitaschool.org/event/kcse-examinations-2024/
LOCATION:Juanita School\, Juanita School\, Thika East Kenya\, Munyu\, Thika\, Central\, 01000\, Kenya
CATEGORIES:School Dates
END:VEVENT
BEGIN:VEVENT
DTSTART;VALUE=DATE:20241023
DTEND;VALUE=DATE:20241024
DTSTAMP:20260423T154419
CREATED:20240905T174628Z
LAST-MODIFIED:20240905T175120Z
UID:2157-1729641600-1729727999@www.juanitaschool.org
SUMMARY:Closing Day Term 3 2024
DESCRIPTION:Form 1-3 Students to go home for the long holiday to mark the end of Term 3 2024. \nForm 4 students remain behind for the upcoming K.C.S.E. Exams.
URL:https://www.juanitaschool.org/event/closing-day-term-3-2024/
LOCATION:Juanita School\, Juanita School\, Thika East Kenya\, Munyu\, Thika\, Central\, 01000\, Kenya
CATEGORIES:School Dates
END:VEVENT
BEGIN:VEVENT
DTSTART;VALUE=DATE:20240828
DTEND;VALUE=DATE:20240829
DTSTAMP:20260423T154419
CREATED:20240905T174403Z
LAST-MODIFIED:20240905T174403Z
UID:2155-1724803200-1724889599@www.juanitaschool.org
SUMMARY:2024 Term 3 Opening Date
DESCRIPTION:Students to report back to school on August 28th 2024 to mark the start of Term 3 2024. \nStudents are expected to report back before 1:00PM.
URL:https://www.juanitaschool.org/event/2024-term-3-opening-date/
LOCATION:Central
CATEGORIES:School Dates
END:VEVENT
BEGIN:VEVENT
DTSTART;VALUE=DATE:20240506
DTEND;VALUE=DATE:20240507
DTSTAMP:20260423T154419
CREATED:20240501T232937Z
LAST-MODIFIED:20240501T232937Z
UID:2098-1714953600-1715039999@www.juanitaschool.org
SUMMARY:Opening Day Term 2 2024
DESCRIPTION:Students to report back to school on May 6th 2024 to mark the start of Term 2 2024. \nStudents are expected to report back before 1:00PM.
URL:https://www.juanitaschool.org/event/opening-day-term-2-2024/
LOCATION:Central
CATEGORIES:School Dates
END:VEVENT
BEGIN:VEVENT
DTSTART;VALUE=DATE:20240318
DTEND;VALUE=DATE:20240328
DTSTAMP:20260423T154419
CREATED:20240317T233541Z
LAST-MODIFIED:20240317T233541Z
UID:2036-1710720000-1711583999@www.juanitaschool.org
SUMMARY:End of Term 1 Exams 2024
DESCRIPTION:Students to sit for their end of term exams for Term 1 2024.
URL:https://www.juanitaschool.org/event/end-of-term-1-exams-2024/
LOCATION:Juanita School\, Juanita School\, Thika East Kenya\, Munyu\, Thika\, Central\, 01000\, Kenya
CATEGORIES:School Dates
END:VEVENT
BEGIN:VEVENT
DTSTART;VALUE=DATE:20240224
DTEND;VALUE=DATE:20240225
DTSTAMP:20260423T154419
CREATED:20231012T043310Z
LAST-MODIFIED:20230913T043525Z
UID:1889-1708732800-1708819199@www.juanitaschool.org
SUMMARY:5th Annual Founder's Day 2024
DESCRIPTION:The 5th Annual Founder’s Day will take place on Saturday\, February 24th\, 2024. This is our annual eventful day of thanksgiving and celebration filled with music and dance from our students with guests expected from the United States. Parents are also welcome. \nThe day’s proceedings will commence at 11:00AM.
URL:https://www.juanitaschool.org/event/5th-annual-founders-day-2024/
LOCATION:Juanita School\, Juanita School\, Thika East Kenya\, Munyu\, Thika\, Central\, 01000\, Kenya
CATEGORIES:School Events
END:VEVENT
BEGIN:VEVENT
DTSTART;VALUE=DATE:20240110
DTEND;VALUE=DATE:20240111
DTSTAMP:20260423T154419
CREATED:20231025T041024Z
LAST-MODIFIED:20240501T233001Z
UID:1902-1704844800-1704931199@www.juanitaschool.org
SUMMARY:Opening Day Term 1 2024
DESCRIPTION:Students to report back to school on January 10th 2024 to mark the start of Term 1 2024. \nStudents are expected to report back before 1:00PM.
URL:https://www.juanitaschool.org/event/opening-day-term-1-2024/
LOCATION:Central
CATEGORIES:School Dates
END:VEVENT
BEGIN:VEVENT
DTSTART;VALUE=DATE:20231103
DTEND;VALUE=DATE:20231125
DTSTAMP:20260423T154419
CREATED:20231013T143456Z
LAST-MODIFIED:20231013T143456Z
UID:1897-1698969600-1700870399@www.juanitaschool.org
SUMMARY:KCSE Examinations 2023
DESCRIPTION:Form 4 students to start their K.C.S.E. Examinations on November 3rd to November 24th. We wish our pioneer class candidates success in their exams. Do yourselves proud! Go Juanita to World!
URL:https://www.juanitaschool.org/event/kcse-examinations-2023/
LOCATION:Central
CATEGORIES:School Dates
END:VEVENT
BEGIN:VEVENT
DTSTART;VALUE=DATE:20231023
DTEND;VALUE=DATE:20231024
DTSTAMP:20260423T154419
CREATED:20231024T040720Z
LAST-MODIFIED:20231025T040900Z
UID:1900-1698019200-1698105599@www.juanitaschool.org
SUMMARY:Closing Day Term 3 2023
DESCRIPTION:Form 1-3 Students to go home for the long holiday to mark the end of Term 3 2023. \nForm 4 students remain behind for the upcoming K.C.S.E. Exams.
URL:https://www.juanitaschool.org/event/closing-day-term-3-2023/
LOCATION:Central
CATEGORIES:School Dates
END:VEVENT
BEGIN:VEVENT
DTSTART;VALUE=DATE:20230830
DTEND;VALUE=DATE:20230831
DTSTAMP:20260423T154419
CREATED:20230826T143400Z
LAST-MODIFIED:20230828T143535Z
UID:1882-1693353600-1693439999@www.juanitaschool.org
SUMMARY:Opening Day Term 3 2023
DESCRIPTION:Students to report back to school on August 30th 2023 to mark the start of Term 3 2023. \nStudents are expected to report back before 2:00PM.
URL:https://www.juanitaschool.org/event/opening-day-term-3-2023/
LOCATION:Central
CATEGORIES:School Dates
END:VEVENT
BEGIN:VEVENT
DTSTART;VALUE=DATE:20230809
DTEND;VALUE=DATE:20230810
DTSTAMP:20260423T154419
CREATED:20230806T214944Z
LAST-MODIFIED:20230808T215039Z
UID:1867-1691539200-1691625599@www.juanitaschool.org
SUMMARY:Closing Day Term 2 2023
DESCRIPTION:Students and teachers to go home for holiday to mark the end of Term 2 2023.
URL:https://www.juanitaschool.org/event/closing-day-term-2-2023/
LOCATION:Juanita School\, Juanita School\, Thika East Kenya\, Munyu\, Thika\, Central\, 01000\, Kenya
CATEGORIES:School Dates
END:VEVENT
BEGIN:VEVENT
DTSTART;VALUE=DATE:20230626
DTEND;VALUE=DATE:20230705
DTSTAMP:20260423T154419
CREATED:20230602T055612Z
LAST-MODIFIED:20230626T042206Z
UID:1785-1687737600-1688515199@www.juanitaschool.org
SUMMARY:Mid-Term Break Term 2 2023
DESCRIPTION:Students to go home for mid-term break of Term 2 2023 on June 26\, 2023. \nStudents to return to school on Tuesday July 4\, 2023 to resume with the rest of the term. \nStudents are expected to report back before 4:00PM.
URL:https://www.juanitaschool.org/event/mid-term-break-term-2-2023/
LOCATION:Central
CATEGORIES:School Dates
END:VEVENT
BEGIN:VEVENT
DTSTART;VALUE=DATE:20230619
DTEND;VALUE=DATE:20230620
DTSTAMP:20260423T154419
CREATED:20230621T004535Z
LAST-MODIFIED:20230621T005111Z
UID:1856-1687132800-1687219199@www.juanitaschool.org
SUMMARY:Badminton Competition: Thika Sub-county
DESCRIPTION:Thika sub-county badminton competitions held at Juanita School on Monday June 19th\, 2023.
URL:https://www.juanitaschool.org/event/badminton-competition-thika-sub-county/
LOCATION:Juanita School\, Juanita School\, Thika East Kenya\, Munyu\, Thika\, Central\, 01000\, Kenya
CATEGORIES:School Events
END:VEVENT
BEGIN:VEVENT
DTSTART;VALUE=DATE:20230616
DTEND;VALUE=DATE:20230618
DTSTAMP:20260423T154419
CREATED:20230621T004335Z
LAST-MODIFIED:20230621T005208Z
UID:1852-1686873600-1687046399@www.juanitaschool.org
SUMMARY:Thika Sub-county Games
DESCRIPTION:Thika sub-county level games held on June 16th and 17th at Ndula Secondary School. \nTeams Participating: Football\, Netball\, Volleyball.
URL:https://www.juanitaschool.org/event/thika-sub-county-games/
LOCATION:Ndula Secondary School\, Ndula Secondary School\, Gatuanyaga\, Kenya\, Central\, Kenya
CATEGORIES:School Events
ATTACH;FMTTYPE=image/jpeg:https://www.juanitaschool.org/wp-content/uploads/2023/06/WhatsApp-Image-2023-06-16-at-12.51.51.jpg
END:VEVENT
BEGIN:VEVENT
DTSTART;VALUE=DATE:20230510
DTEND;VALUE=DATE:20230511
DTSTAMP:20260423T154419
CREATED:20230303T224343Z
LAST-MODIFIED:20230507T065750Z
UID:1718-1683676800-1683763199@www.juanitaschool.org
SUMMARY:Term 2 Opening Day
DESCRIPTION:Students to report back to school on May 10th 2023 to mark the start of Term 2 2023. \nStudents are expected to report back before 4:00PM.
URL:https://www.juanitaschool.org/event/term-2-opening-day-2/
LOCATION:Central
CATEGORIES:School Dates
END:VEVENT
BEGIN:VEVENT
DTSTART;VALUE=DATE:20230419
DTEND;VALUE=DATE:20230420
DTSTAMP:20260423T154419
CREATED:20230303T224244Z
LAST-MODIFIED:20230412T050416Z
UID:1716-1681862400-1681948799@www.juanitaschool.org
SUMMARY:Term 1 2023 Closing Day
DESCRIPTION:Students and teachers to go home for holiday to mark the end of Term 1 2023.
URL:https://www.juanitaschool.org/event/term-1-2023-closing/
LOCATION:Central
CATEGORIES:School Dates
END:VEVENT
BEGIN:VEVENT
DTSTART;VALUE=DATE:20230316
DTEND;VALUE=DATE:20230323
DTSTAMP:20260423T154419
CREATED:20230303T223936Z
LAST-MODIFIED:20230320T050014Z
UID:1713-1678924800-1679529599@www.juanitaschool.org
SUMMARY:Mid-Term Break Term 1 2023
DESCRIPTION:Students to go home for mid-term break of Term 1 2023 on March 16\, 2023. \nStudents to return to school on Wednesday March 22\, 2023 to resume with the rest of the term. \nStudents are expected to report back before 4:00PM.
URL:https://www.juanitaschool.org/event/mid-term-break-term-1-2023/
LOCATION:Central
CATEGORIES:School Dates
END:VEVENT
BEGIN:VEVENT
DTSTART;VALUE=DATE:20230225
DTEND;VALUE=DATE:20230226
DTSTAMP:20260423T154419
CREATED:20220906T170220Z
LAST-MODIFIED:20230217T050916Z
UID:1511-1677283200-1677369599@www.juanitaschool.org
SUMMARY:4th Annual Founder's Day 2023
DESCRIPTION:The 4th Annual Founder’s Day will take place on Saturday\, February 25th\, 2023. This is our annual eventful day of thanksgiving and celebration filled with music and dance from our students with guests expected from the United States. Parents are also welcome. \nThe day’s proceedings will commence at 11:00AM.
URL:https://www.juanitaschool.org/event/4th-annual-thanksgiving-day-2023/
LOCATION:Juanita School\, Juanita School\, Thika East Kenya\, Munyu\, Thika\, Central\, 01000\, Kenya
CATEGORIES:School Events
END:VEVENT
BEGIN:VEVENT
DTSTART;VALUE=DATE:20230209
DTEND;VALUE=DATE:20230210
DTSTAMP:20260423T154419
CREATED:20230122T210546Z
LAST-MODIFIED:20230122T210743Z
UID:1607-1675900800-1675987199@www.juanitaschool.org
SUMMARY:Form 1 Reporting Day 2023
DESCRIPTION:We are pleased to welcome new Form 1 students as they will be reporting for term 1 on Thursday February 9th\, 2023. \nNew students are expected to report before 4:00PM. \nPlease bring all admission and boarding requirements as per the acceptance letter.
URL:https://www.juanitaschool.org/event/form-1-reporting-day-2023/
LOCATION:Juanita School\, Juanita School\, Thika East Kenya\, Munyu\, Thika\, Central\, 01000\, Kenya
CATEGORIES:School Dates
END:VEVENT
BEGIN:VEVENT
DTSTART;VALUE=DATE:20230125
DTEND;VALUE=DATE:20230126
DTSTAMP:20260423T154419
CREATED:20230101T044047Z
LAST-MODIFIED:20230109T044147Z
UID:1604-1674604800-1674691199@www.juanitaschool.org
SUMMARY:Opening Day Term 1 2023
DESCRIPTION:Students and teachers come back to school to mark the start of Term 1 for the 2023 school calendar year. \nStudents are required to report before 4:00PM.
URL:https://www.juanitaschool.org/event/opening-day-term-1-2023/
LOCATION:Central
CATEGORIES:School Dates
END:VEVENT
BEGIN:VEVENT
DTSTART;VALUE=DATE:20221124
DTEND;VALUE=DATE:20221125
DTSTAMP:20260423T154419
CREATED:20220912T042412Z
LAST-MODIFIED:20220912T045423Z
UID:1521-1669248000-1669334399@www.juanitaschool.org
SUMMARY:Closing Day Term 3\, 2022
DESCRIPTION:Students and teachers to go home for the December holidays marking the end of Term 3 for the 2022 school calendar year. \nWe wish everyone a Merry Christmas and a Happy New Year.
URL:https://www.juanitaschool.org/event/closing-day-term-3-2022/
LOCATION:Juanita School\, Juanita School\, Thika East Kenya\, Munyu\, Thika\, Central\, 01000\, Kenya
CATEGORIES:School Dates
END:VEVENT
END:VCALENDAR