BEGIN:VCALENDAR
VERSION:2.0
PRODID:-//Juanita School - Kenya - ECPv6.15.20//NONSGML v1.0//EN
CALSCALE:GREGORIAN
METHOD:PUBLISH
X-WR-CALNAME:Juanita School - Kenya
X-ORIGINAL-URL:https://www.juanitaschool.org
X-WR-CALDESC:Events for Juanita School - Kenya
REFRESH-INTERVAL;VALUE=DURATION:PT1H
X-Robots-Tag:noindex
X-PUBLISHED-TTL:PT1H
BEGIN:VTIMEZONE
TZID:UTC
BEGIN:STANDARD
TZOFFSETFROM:+0000
TZOFFSETTO:+0000
TZNAME:UTC
DTSTART:20200101T000000
END:STANDARD
END:VTIMEZONE
BEGIN:VEVENT
DTSTART;VALUE=DATE:20250222
DTEND;VALUE=DATE:20250223
DTSTAMP:20260423T195651
CREATED:20241129T213956Z
LAST-MODIFIED:20241129T213956Z
UID:2237-1740182400-1740268799@www.juanitaschool.org
SUMMARY:Founder's Day 2025
DESCRIPTION:The Juanita Schools Annual Founder’s Day will take place on Saturday\, February 22nd\, 2025. This is our annual eventful day of thanksgiving and celebration filled with music and dance from our students with guests expected from the United States. Parents and Alumni are welcome to celebrate with us. We will be celebrating 5 years since Juanita School opened its doors. \nThe day’s proceedings will commence at 11:00AM.
URL:https://www.juanitaschool.org/event/founders-day-2025/
LOCATION:Juanita School\, Juanita School\, Thika East Kenya\, Munyu\, Thika\, Central\, 01000\, Kenya
CATEGORIES:School Events
END:VEVENT
BEGIN:VEVENT
DTSTART;VALUE=DATE:20240224
DTEND;VALUE=DATE:20240225
DTSTAMP:20260423T195651
CREATED:20231012T043310Z
LAST-MODIFIED:20230913T043525Z
UID:1889-1708732800-1708819199@www.juanitaschool.org
SUMMARY:5th Annual Founder's Day 2024
DESCRIPTION:The 5th Annual Founder’s Day will take place on Saturday\, February 24th\, 2024. This is our annual eventful day of thanksgiving and celebration filled with music and dance from our students with guests expected from the United States. Parents are also welcome. \nThe day’s proceedings will commence at 11:00AM.
URL:https://www.juanitaschool.org/event/5th-annual-founders-day-2024/
LOCATION:Juanita School\, Juanita School\, Thika East Kenya\, Munyu\, Thika\, Central\, 01000\, Kenya
CATEGORIES:School Events
END:VEVENT
BEGIN:VEVENT
DTSTART;VALUE=DATE:20230619
DTEND;VALUE=DATE:20230620
DTSTAMP:20260423T195651
CREATED:20230621T004535Z
LAST-MODIFIED:20230621T005111Z
UID:1856-1687132800-1687219199@www.juanitaschool.org
SUMMARY:Badminton Competition: Thika Sub-county
DESCRIPTION:Thika sub-county badminton competitions held at Juanita School on Monday June 19th\, 2023.
URL:https://www.juanitaschool.org/event/badminton-competition-thika-sub-county/
LOCATION:Juanita School\, Juanita School\, Thika East Kenya\, Munyu\, Thika\, Central\, 01000\, Kenya
CATEGORIES:School Events
END:VEVENT
BEGIN:VEVENT
DTSTART;VALUE=DATE:20230616
DTEND;VALUE=DATE:20230618
DTSTAMP:20260423T195651
CREATED:20230621T004335Z
LAST-MODIFIED:20230621T005208Z
UID:1852-1686873600-1687046399@www.juanitaschool.org
SUMMARY:Thika Sub-county Games
DESCRIPTION:Thika sub-county level games held on June 16th and 17th at Ndula Secondary School. \nTeams Participating: Football\, Netball\, Volleyball.
URL:https://www.juanitaschool.org/event/thika-sub-county-games/
LOCATION:Ndula Secondary School\, Ndula Secondary School\, Gatuanyaga\, Kenya\, Central\, Kenya
CATEGORIES:School Events
ATTACH;FMTTYPE=image/jpeg:https://www.juanitaschool.org/wp-content/uploads/2023/06/WhatsApp-Image-2023-06-16-at-12.51.51.jpg
END:VEVENT
BEGIN:VEVENT
DTSTART;VALUE=DATE:20230225
DTEND;VALUE=DATE:20230226
DTSTAMP:20260423T195651
CREATED:20220906T170220Z
LAST-MODIFIED:20230217T050916Z
UID:1511-1677283200-1677369599@www.juanitaschool.org
SUMMARY:4th Annual Founder's Day 2023
DESCRIPTION:The 4th Annual Founder’s Day will take place on Saturday\, February 25th\, 2023. This is our annual eventful day of thanksgiving and celebration filled with music and dance from our students with guests expected from the United States. Parents are also welcome. \nThe day’s proceedings will commence at 11:00AM.
URL:https://www.juanitaschool.org/event/4th-annual-thanksgiving-day-2023/
LOCATION:Juanita School\, Juanita School\, Thika East Kenya\, Munyu\, Thika\, Central\, 01000\, Kenya
CATEGORIES:School Events
END:VEVENT
BEGIN:VEVENT
DTSTART;VALUE=DATE:20220722
DTEND;VALUE=DATE:20220723
DTSTAMP:20260423T195651
CREATED:20220721T130917Z
LAST-MODIFIED:20220814T131120Z
UID:1439-1658448000-1658534399@www.juanitaschool.org
SUMMARY:Sports Competitions - Netball
DESCRIPTION:Juanita School Netball Team will be travelling to Ndula Secondary School to participate in the sub-county level sports competitions.
URL:https://www.juanitaschool.org/event/sports-competitions-netball/
LOCATION:Central
CATEGORIES:School Events
END:VEVENT
BEGIN:VEVENT
DTSTART;VALUE=DATE:20220716
DTEND;VALUE=DATE:20220717
DTSTAMP:20260423T195651
CREATED:20220715T130554Z
LAST-MODIFIED:20220814T131210Z
UID:1436-1657929600-1658015999@www.juanitaschool.org
SUMMARY:23rd Annual Maths Contest
DESCRIPTION:Juanita School top Maths students will be travelling to Mang’u High School to participate in the 23rd Annual Mathematics contest.
URL:https://www.juanitaschool.org/event/23rd-annual-maths-contest/
LOCATION:Central
CATEGORIES:School Events
END:VEVENT
BEGIN:VEVENT
DTSTART;VALUE=DATE:20220219
DTEND;VALUE=DATE:20220220
DTSTAMP:20260423T195651
CREATED:20220203T191425Z
LAST-MODIFIED:20220323T043622Z
UID:1055-1645228800-1645315199@www.juanitaschool.org
SUMMARY:2022 Juanita School Founder's Day
DESCRIPTION:Juanita School Annual Founder’s Day returns for the 3rd year. \nParents are welcome to visit their students. \nWe will have guests from the United States lead by Pastor Allan David and his team.
URL:https://www.juanitaschool.org/event/2022-juanita-school-founders-day/
LOCATION:Central
CATEGORIES:School Events
END:VEVENT
BEGIN:VEVENT
DTSTART;VALUE=DATE:20210726
DTEND;VALUE=DATE:20210727
DTSTAMP:20260423T195651
CREATED:20210311T183904Z
LAST-MODIFIED:20210311T183904Z
UID:704-1627257600-1627343999@www.juanitaschool.org
SUMMARY:2021 Term 1 Opening Day
DESCRIPTION:Students and teachers return to school on 26th July\, 2021 to mark the start of the first term on 2021 School Calendar Year.
URL:https://www.juanitaschool.org/event/2021-term-1-opening-day/
LOCATION:Central
CATEGORIES:School Events
END:VEVENT
BEGIN:VEVENT
DTSTART;VALUE=DATE:20210716
DTEND;VALUE=DATE:20210717
DTSTAMP:20260423T195651
CREATED:20210311T183733Z
LAST-MODIFIED:20210311T183733Z
UID:702-1626393600-1626479999@www.juanitaschool.org
SUMMARY:Term 3 Closing Day
DESCRIPTION:Students to go home for holiday on 16th July\, 2021 to mark the end of Term 3.
URL:https://www.juanitaschool.org/event/term-3-closing-day/
LOCATION:Central
CATEGORIES:School Events
END:VEVENT
BEGIN:VEVENT
DTSTART;VALUE=DATE:20210608
DTEND;VALUE=DATE:20210609
DTSTAMP:20260423T195651
CREATED:20210311T183533Z
LAST-MODIFIED:20210315T163841Z
UID:700-1623110400-1623196799@www.juanitaschool.org
SUMMARY:Mid-term Break Ends
DESCRIPTION:Students return to school after mid-term break on 8th June\, 2021 for continuation of Term 3. All students are expected to report before 4:00PM.
URL:https://www.juanitaschool.org/event/mid-term-break-ends/
LOCATION:Central
CATEGORIES:School Events
END:VEVENT
BEGIN:VEVENT
DTSTART;TZID=UTC:20210603T080000
DTEND;TZID=UTC:20210607T170000
DTSTAMP:20260423T195651
CREATED:20210311T183409Z
LAST-MODIFIED:20210311T183409Z
UID:698-1622707200-1623085200@www.juanitaschool.org
SUMMARY:Term 3 Mid-term Break
DESCRIPTION:Students go home for mid-term break on 3rd June\, 2021.
URL:https://www.juanitaschool.org/event/term-3-mid-term-break/
LOCATION:Central
CATEGORIES:School Events
END:VEVENT
BEGIN:VEVENT
DTSTART;VALUE=DATE:20210511
DTEND;VALUE=DATE:20210512
DTSTAMP:20260423T195651
CREATED:20210311T183216Z
LAST-MODIFIED:20210315T163409Z
UID:696-1620691200-1620777599@www.juanitaschool.org
SUMMARY:Term 3 Opening Day
DESCRIPTION:Students and teachers return to school on 10th May\, 2021 to begin the third term. All students are to report before 4:00PM
URL:https://www.juanitaschool.org/event/term-3-opening-day/
LOCATION:Central
CATEGORIES:School Events
END:VEVENT
BEGIN:VEVENT
DTSTART;VALUE=DATE:20210319
DTEND;VALUE=DATE:20210320
DTSTAMP:20260423T195651
CREATED:20210311T182910Z
LAST-MODIFIED:20210311T182910Z
UID:692-1616112000-1616198399@www.juanitaschool.org
SUMMARY:Term 2 Closing Day
DESCRIPTION:Students go home for holiday break to mark the end of Term 2 on March 19th\, 2021.
URL:https://www.juanitaschool.org/event/term-2-closing-day/
LOCATION:Central
CATEGORIES:School Events
END:VEVENT
BEGIN:VEVENT
DTSTART;TZID=UTC:20210220T120000
DTEND;TZID=UTC:20210220T200000
DTSTAMP:20260423T195651
CREATED:20210311T183049Z
LAST-MODIFIED:20210311T183049Z
UID:694-1613822400-1613851200@www.juanitaschool.org
SUMMARY:Juanita School Grand Opening Ceremony
DESCRIPTION:Juanita School Grand Opening Ceremony on February 20th\, 2021. Dedicated by guest of honor\, Mr. George Hutchings.
URL:https://www.juanitaschool.org/event/juanita-school-grand-opening-ceremony/
LOCATION:Central
CATEGORIES:School Events
END:VEVENT
BEGIN:VEVENT
DTSTART;VALUE=DATE:20210105
DTEND;VALUE=DATE:20210106
DTSTAMP:20260423T195651
CREATED:20210311T182751Z
LAST-MODIFIED:20210311T182751Z
UID:690-1609804800-1609891199@www.juanitaschool.org
SUMMARY:Term 2 Opening Day
DESCRIPTION:Students and teachers return back to school on January 5th 2021 since the Covid-19 closure in March 2020.
URL:https://www.juanitaschool.org/event/term-2-opening-day/
LOCATION:Central
CATEGORIES:School Events
END:VEVENT
END:VCALENDAR