BEGIN:VCALENDAR
VERSION:2.0
PRODID:-//Juanita School - Kenya - ECPv6.15.20//NONSGML v1.0//EN
CALSCALE:GREGORIAN
METHOD:PUBLISH
X-WR-CALNAME:Juanita School - Kenya
X-ORIGINAL-URL:https://www.juanitaschool.org
X-WR-CALDESC:Events for Juanita School - Kenya
REFRESH-INTERVAL;VALUE=DURATION:PT1H
X-Robots-Tag:noindex
X-PUBLISHED-TTL:PT1H
BEGIN:VTIMEZONE
TZID:Africa/Nairobi
BEGIN:STANDARD
TZOFFSETFROM:+0300
TZOFFSETTO:+0300
TZNAME:EAT
DTSTART:20220101T000000
END:STANDARD
END:VTIMEZONE
BEGIN:VTIMEZONE
TZID:UTC
BEGIN:STANDARD
TZOFFSETFROM:+0000
TZOFFSETTO:+0000
TZNAME:UTC
DTSTART:20210101T000000
END:STANDARD
END:VTIMEZONE
BEGIN:VEVENT
DTSTART;VALUE=DATE:20230316
DTEND;VALUE=DATE:20230323
DTSTAMP:20260423T212335
CREATED:20230303T223936Z
LAST-MODIFIED:20230320T050014Z
UID:1713-1678924800-1679529599@www.juanitaschool.org
SUMMARY:Mid-Term Break Term 1 2023
DESCRIPTION:Students to go home for mid-term break of Term 1 2023 on March 16\, 2023. \nStudents to return to school on Wednesday March 22\, 2023 to resume with the rest of the term. \nStudents are expected to report back before 4:00PM.
URL:https://www.juanitaschool.org/event/mid-term-break-term-1-2023/
CATEGORIES:School Dates
END:VEVENT
BEGIN:VEVENT
DTSTART;VALUE=DATE:20230209
DTEND;VALUE=DATE:20230210
DTSTAMP:20260423T212335
CREATED:20230122T210546Z
LAST-MODIFIED:20230122T210743Z
UID:1607-1675900800-1675987199@www.juanitaschool.org
SUMMARY:Form 1 Reporting Day 2023
DESCRIPTION:We are pleased to welcome new Form 1 students as they will be reporting for term 1 on Thursday February 9th\, 2023. \nNew students are expected to report before 4:00PM. \nPlease bring all admission and boarding requirements as per the acceptance letter.
URL:https://www.juanitaschool.org/event/form-1-reporting-day-2023/
LOCATION:Juanita School\, Juanita School\, Thika East Kenya\, Munyu\, Thika\, Central\, 01000\, Kenya
CATEGORIES:School Dates
END:VEVENT
BEGIN:VEVENT
DTSTART;VALUE=DATE:20230125
DTEND;VALUE=DATE:20230126
DTSTAMP:20260423T212335
CREATED:20230101T044047Z
LAST-MODIFIED:20230109T044147Z
UID:1604-1674604800-1674691199@www.juanitaschool.org
SUMMARY:Opening Day Term 1 2023
DESCRIPTION:Students and teachers come back to school to mark the start of Term 1 for the 2023 school calendar year. \nStudents are required to report before 4:00PM.
URL:https://www.juanitaschool.org/event/opening-day-term-1-2023/
CATEGORIES:School Dates
END:VEVENT
BEGIN:VEVENT
DTSTART;VALUE=DATE:20221124
DTEND;VALUE=DATE:20221125
DTSTAMP:20260423T212335
CREATED:20220912T042412Z
LAST-MODIFIED:20220912T045423Z
UID:1521-1669248000-1669334399@www.juanitaschool.org
SUMMARY:Closing Day Term 3\, 2022
DESCRIPTION:Students and teachers to go home for the December holidays marking the end of Term 3 for the 2022 school calendar year. \nWe wish everyone a Merry Christmas and a Happy New Year.
URL:https://www.juanitaschool.org/event/closing-day-term-3-2022/
LOCATION:Juanita School\, Juanita School\, Thika East Kenya\, Munyu\, Thika\, Central\, 01000\, Kenya
CATEGORIES:School Dates
END:VEVENT
BEGIN:VEVENT
DTSTART;VALUE=DATE:20220927
DTEND;VALUE=DATE:20220928
DTSTAMP:20260423T212335
CREATED:20220912T042056Z
LAST-MODIFIED:20220912T043455Z
UID:1519-1664236800-1664323199@www.juanitaschool.org
SUMMARY:Opening Day Term 3\, 2022
DESCRIPTION:Students and teachers come back to school to mark the start of Term 3 for the 2022 school calendar year. \nStudents are required to report before 4:00PM.
URL:https://www.juanitaschool.org/event/opening-day-term-3-2022/
CATEGORIES:School Dates
END:VEVENT
BEGIN:VEVENT
DTSTART;VALUE=DATE:20220915
DTEND;VALUE=DATE:20220916
DTSTAMP:20260423T212335
CREATED:20220910T041543Z
LAST-MODIFIED:20220912T041716Z
UID:1517-1663200000-1663286399@www.juanitaschool.org
SUMMARY:Closing Day Term 2\, 2022
DESCRIPTION:Students and teachers to go home for a short holiday to mark the conclusion of Term 2 for the 2022 calendar year.
URL:https://www.juanitaschool.org/event/closing-day-term-2-2022/
LOCATION:Juanita School\, Juanita School\, Thika East Kenya\, Munyu\, Thika\, Central\, 01000\, Kenya
CATEGORIES:School Dates
END:VEVENT
BEGIN:VEVENT
DTSTART;VALUE=DATE:20220902
DTEND;VALUE=DATE:20220903
DTSTAMP:20260423T212335
CREATED:20220831T170309Z
LAST-MODIFIED:20220906T170448Z
UID:1513-1662076800-1662163199@www.juanitaschool.org
SUMMARY:Annual School Trip
DESCRIPTION:Juanita School annual school trip to various tourist destinations in the country.
URL:https://www.juanitaschool.org/event/annual-school-trip/
CATEGORIES:School Dates
END:VEVENT
BEGIN:VEVENT
DTSTART;VALUE=DATE:20220802
DTEND;VALUE=DATE:20220824
DTSTAMP:20260423T212335
CREATED:20220802T130034Z
LAST-MODIFIED:20220819T181641Z
UID:1433-1659398400-1661299199@www.juanitaschool.org
SUMMARY:Mid-Term Break Term 2\, 2022
DESCRIPTION:Students and teachers to go home for a mid-term break and the 2022 General Elections period from Tuesday\, August 2nd to Tuesday\, August 23rd 2022. \nStudents are expected to report back before 4:00PM.
URL:https://www.juanitaschool.org/event/mid-term-break-term-2-2022/
CATEGORIES:School Dates
END:VEVENT
BEGIN:VEVENT
DTSTART;VALUE=DATE:20220630
DTEND;VALUE=DATE:20220713
DTSTAMP:20260423T212335
CREATED:20220614T113744Z
LAST-MODIFIED:20220614T113815Z
UID:1343-1656547200-1657670399@www.juanitaschool.org
SUMMARY:Holiday Break Term 1 2022
DESCRIPTION:Students and teachers to go home on Thursday June 30th\, 2022\, for holiday break of Term 1 of the 2022 school calendar year. Students are expected to return to school on Tuesday July 12th\, 2022 no later than 4:00PM.
URL:https://www.juanitaschool.org/event/holiday-break-term-1-2022/
CATEGORIES:School Dates
END:VEVENT
BEGIN:VEVENT
DTSTART;VALUE=DATE:20220504
DTEND;VALUE=DATE:20220505
DTSTAMP:20260423T212335
CREATED:20220501T191329Z
LAST-MODIFIED:20220511T191439Z
UID:1264-1651622400-1651708799@www.juanitaschool.org
SUMMARY:Arrival of Form 1 Students
DESCRIPTION:New Form 1 students to arrive and be admitted to Juanita School on May 4th\, 2022. \nStudents are asked to report before 4:00PM.
URL:https://www.juanitaschool.org/event/arrival-of-form-1-students-2022/
CATEGORIES:School Dates
END:VEVENT
BEGIN:VEVENT
DTSTART;VALUE=DATE:20220426
DTEND;VALUE=DATE:20220427
DTSTAMP:20260423T212335
CREATED:20220324T190420Z
LAST-MODIFIED:20220323T042455Z
UID:1048-1650931200-1651017599@www.juanitaschool.org
SUMMARY:2022 Term 1 Opening Day
DESCRIPTION:Students and teachers return to school on Tuesday 26th April\, 2022 to mark the start of Term 1 for the 2022 School Calendar Year. \nAll students are required to report before 4:00PM.
URL:https://www.juanitaschool.org/event/2022-term-1-opening-day/
LOCATION:Juanita School\, Juanita School\, Thika East Kenya\, Munyu\, Thika\, Central\, 01000\, Kenya
CATEGORIES:School Dates
END:VEVENT
BEGIN:VEVENT
DTSTART;VALUE=DATE:20220226
DTEND;VALUE=DATE:20220227
DTSTAMP:20260423T212335
CREATED:20220215T190929Z
LAST-MODIFIED:20220311T192440Z
UID:1053-1645833600-1645919999@www.juanitaschool.org
SUMMARY:2021 Term 3 Closing Day
DESCRIPTION:Students to go home for holiday on Saturday 26th February\, 2022 to mark the end of Term 3 of the 2021 School Calendar Year. \nStudents will be moving up to the next grade level when they report back after the holidays.
URL:https://www.juanitaschool.org/event/2021-term-3-closing-day/
CATEGORIES:School Dates
END:VEVENT
END:VCALENDAR